BEGIN:VCALENDAR
VERSION:2.0
PRODID:-//Plone.org//NONSGML plone.app.event//EN
X-WR-TIMEZONE:Brazil/East
BEGIN:VEVENT
SUMMARY:Reunião Ordinária 020
DTSTART;TZID=Brazil/East;VALUE=DATE-TIME:20170504T140000
DTEND;TZID=Brazil/East;VALUE=DATE-TIME:20170504T180000
DTSTAMP;VALUE=DATE-TIME:20260423T233802Z
UID:a75de061ade74051b6968a75a0ea8b86@pm3.divinopolis.mg.leg.br
CREATED;VALUE=DATE-TIME:20170503T020703Z
LAST-MODIFIED;VALUE=DATE-TIME:20170504T205006Z
LOCATION:Plenário
URL:https://www.divinopolis.mg.leg.br/institucional/eventos/reuniao-ordina
 ria-020
END:VEVENT
BEGIN:VTIMEZONE
TZID:Brazil/East
X-LIC-LOCATION:Brazil/East
BEGIN:STANDARD
DTSTART;VALUE=DATE-TIME:20170218T230000
TZNAME:BRT
TZOFFSETFROM:-0200
TZOFFSETTO:-0300
END:STANDARD
END:VTIMEZONE
END:VCALENDAR
